
BEGIN:VCALENDAR
VERSION:2.0
PRODID:http://www.schuur.ch
METHOD:PUBLISH
BEGIN:VTIMEZONE
TZID:Europe/Zurich
X-LIC-LOCATION:Europe/Zurich
BEGIN:DAYLIGHT
TZOFFSETFROM:+0100
TZOFFSETTO:+0200
TZNAME:CEST
DTSTART:19700329T020000
RRULE:FREQ=YEARLY;INTERVAL=1;BYDAY=-1SU;BYMONTH=3
END:DAYLIGHT
BEGIN:STANDARD
TZOFFSETFROM:+0200
TZOFFSETTO:+0100
TZNAME:CET
DTSTART:19701025T030000
RRULE:FREQ=YEARLY;INTERVAL=1;BYDAY=-1SU;BYMONTH=10
END:STANDARD
END:VTIMEZONE
BEGIN:VEVENT
UID:947387f78cf6f7cf9a7a85a2087ebb1b@schuur.ch
CLASS:PUBLIC
LOCATION:Konzerthaus Schüür, Luzern
SUMMARY:World Band Festival Luzern: LaBrassBanda
DTSTART;TZID=Europe/Zurich:20240926T193000
DTEND;TZID=Europe/Zurich:20240927T003000
DTSTAMP:20260424T093258Z
URL:https://www.schuur.ch/programm/events/event-details/world-band-festival-labrassbanda-26-09-2024-konzerthaus-schuur-luzern
DESCRIPTION:World Band Festival Luzern: LaBrassBanda
X-MICROSOFT-CDO-BUSYSTATUS:OOF
END:VEVENT
END:VCALENDAR

