
BEGIN:VCALENDAR
VERSION:2.0
PRODID:http://www.schuur.ch
METHOD:PUBLISH
BEGIN:VTIMEZONE
TZID:Europe/Zurich
X-LIC-LOCATION:Europe/Zurich
BEGIN:DAYLIGHT
TZOFFSETFROM:+0100
TZOFFSETTO:+0200
TZNAME:CEST
DTSTART:19700329T020000
RRULE:FREQ=YEARLY;INTERVAL=1;BYDAY=-1SU;BYMONTH=3
END:DAYLIGHT
BEGIN:STANDARD
TZOFFSETFROM:+0200
TZOFFSETTO:+0100
TZNAME:CET
DTSTART:19701025T030000
RRULE:FREQ=YEARLY;INTERVAL=1;BYDAY=-1SU;BYMONTH=10
END:STANDARD
END:VTIMEZONE
BEGIN:VEVENT
UID:0f9e69033df84170ab52eb692f87bbb8@schuur.ch
CLASS:PUBLIC
LOCATION:Konzerthaus Schüür, Luzern
SUMMARY:Sacred Reich
DTSTART;TZID=Europe/Zurich:20260812T183000
DTEND;TZID=Europe/Zurich:20260813T003000
DTSTAMP:20260424T062831Z
URL:https://www.schuur.ch/programm/events/event-details/sacred-reich-12-08-2026-konzerthaus-schuur-luzern
DESCRIPTION:Sacred Reich
X-MICROSOFT-CDO-BUSYSTATUS:OOF
END:VEVENT
END:VCALENDAR

