
BEGIN:VCALENDAR
VERSION:2.0
PRODID:http://www.schuur.ch
METHOD:PUBLISH
BEGIN:VTIMEZONE
TZID:Europe/Zurich
X-LIC-LOCATION:Europe/Zurich
BEGIN:DAYLIGHT
TZOFFSETFROM:+0100
TZOFFSETTO:+0200
TZNAME:CEST
DTSTART:19700329T020000
RRULE:FREQ=YEARLY;INTERVAL=1;BYDAY=-1SU;BYMONTH=3
END:DAYLIGHT
BEGIN:STANDARD
TZOFFSETFROM:+0200
TZOFFSETTO:+0100
TZNAME:CET
DTSTART:19701025T030000
RRULE:FREQ=YEARLY;INTERVAL=1;BYDAY=-1SU;BYMONTH=10
END:STANDARD
END:VTIMEZONE
BEGIN:VEVENT
UID:7dbc613410bd7bc3bf4703057e745132@schuur.ch
CLASS:PUBLIC
LOCATION:Konzerthaus Schüür, Luzern
SUMMARY:H-BLOCKX
DTSTART;TZID=Europe/Zurich:20270223T190000
DTEND;TZID=Europe/Zurich:20270224T003000
DTSTAMP:20260424T050036Z
URL:https://www.schuur.ch/programm/events/event-details/h-blockx-23-02-2027-konzerthaus-schuur-luzern
DESCRIPTION:H-BLOCKX
X-MICROSOFT-CDO-BUSYSTATUS:OOF
END:VEVENT
END:VCALENDAR

