
BEGIN:VCALENDAR
VERSION:2.0
PRODID:http://www.schuur.ch
METHOD:PUBLISH
BEGIN:VTIMEZONE
TZID:Europe/Zurich
X-LIC-LOCATION:Europe/Zurich
BEGIN:DAYLIGHT
TZOFFSETFROM:+0100
TZOFFSETTO:+0200
TZNAME:CEST
DTSTART:19700329T020000
RRULE:FREQ=YEARLY;INTERVAL=1;BYDAY=-1SU;BYMONTH=3
END:DAYLIGHT
BEGIN:STANDARD
TZOFFSETFROM:+0200
TZOFFSETTO:+0100
TZNAME:CET
DTSTART:19701025T030000
RRULE:FREQ=YEARLY;INTERVAL=1;BYDAY=-1SU;BYMONTH=10
END:STANDARD
END:VTIMEZONE
BEGIN:VEVENT
UID:932bca211809d3d3a1ef0121474d9408@schuur.ch
CLASS:PUBLIC
LOCATION:Konzerthaus Schüür, Luzern
SUMMARY:Gartenkonzert: Reverend Beat-Man
DTSTART;TZID=Europe/Zurich:20240731T190000
DTEND;TZID=Europe/Zurich:20240801T040000
DTSTAMP:20260424T092648Z
URL:https://www.schuur.ch/programm/events/event-details/gartenkonzert-reverend-beat-man-31-07-2024-konzerthaus-schuur-luzern
DESCRIPTION:Gartenkonzert: Reverend Beat-Man
X-MICROSOFT-CDO-BUSYSTATUS:OOF
END:VEVENT
END:VCALENDAR

