
BEGIN:VCALENDAR
VERSION:2.0
PRODID:http://www.schuur.ch
METHOD:PUBLISH
BEGIN:VTIMEZONE
TZID:Europe/Zurich
X-LIC-LOCATION:Europe/Zurich
BEGIN:DAYLIGHT
TZOFFSETFROM:+0100
TZOFFSETTO:+0200
TZNAME:CEST
DTSTART:19700329T020000
RRULE:FREQ=YEARLY;INTERVAL=1;BYDAY=-1SU;BYMONTH=3
END:DAYLIGHT
BEGIN:STANDARD
TZOFFSETFROM:+0200
TZOFFSETTO:+0100
TZNAME:CET
DTSTART:19701025T030000
RRULE:FREQ=YEARLY;INTERVAL=1;BYDAY=-1SU;BYMONTH=10
END:STANDARD
END:VTIMEZONE
BEGIN:VEVENT
UID:1c5ed545ed77b9c7fb35ac328daea9fe@schuur.ch
CLASS:PUBLIC
LOCATION:Konzerthaus Schüür, Luzern
SUMMARY:Gartenkonzert: Moped Lads
DTSTART;TZID=Europe/Zurich:20250808T190000
DTEND;TZID=Europe/Zurich:20250809T003000
DTSTAMP:20260424T094557Z
URL:https://www.schuur.ch/programm/events/event-details/gartenkonzert-moped-lads-08-08-2025-konzerthaus-schuur-luzern
DESCRIPTION:Gartenkonzert: Moped Lads
X-MICROSOFT-CDO-BUSYSTATUS:OOF
END:VEVENT
END:VCALENDAR

